BEGIN:VCALENDAR
VERSION:2.0
PRODID:-//The Pride Center San Antonio - ECPv6.15.11//NONSGML v1.0//EN
CALSCALE:GREGORIAN
METHOD:PUBLISH
X-WR-CALNAME:The Pride Center San Antonio
X-ORIGINAL-URL:https://pridecentersa.org
X-WR-CALDESC:Events for The Pride Center San Antonio
REFRESH-INTERVAL;VALUE=DURATION:PT1H
X-Robots-Tag:noindex
X-PUBLISHED-TTL:PT1H
BEGIN:VTIMEZONE
TZID:America/Chicago
BEGIN:DAYLIGHT
TZOFFSETFROM:-0600
TZOFFSETTO:-0500
TZNAME:CDT
DTSTART:20230312T080000
END:DAYLIGHT
BEGIN:STANDARD
TZOFFSETFROM:-0500
TZOFFSETTO:-0600
TZNAME:CST
DTSTART:20231105T070000
END:STANDARD
BEGIN:DAYLIGHT
TZOFFSETFROM:-0600
TZOFFSETTO:-0500
TZNAME:CDT
DTSTART:20240310T080000
END:DAYLIGHT
BEGIN:STANDARD
TZOFFSETFROM:-0500
TZOFFSETTO:-0600
TZNAME:CST
DTSTART:20241103T070000
END:STANDARD
BEGIN:DAYLIGHT
TZOFFSETFROM:-0600
TZOFFSETTO:-0500
TZNAME:CDT
DTSTART:20250309T080000
END:DAYLIGHT
BEGIN:STANDARD
TZOFFSETFROM:-0500
TZOFFSETTO:-0600
TZNAME:CST
DTSTART:20251102T070000
END:STANDARD
END:VTIMEZONE
BEGIN:VEVENT
DTSTART;TZID=America/Chicago:20241213T180000
DTEND;TZID=America/Chicago:20241213T201500
DTSTAMP:20260425T213017
CREATED:20241210T163415Z
LAST-MODIFIED:20241210T163415Z
UID:10750-1734112800-1734120900@pridecentersa.org
SUMMARY:Esperanza & ____ Documentary
DESCRIPTION:Come watch as siri gurudev hernández’\, in 33-36 minute segments titled Chicano Solidarity\, Queer Communities\, and Cultural Grounding\, explores the Esperanza Peace & Justice Center’s  history with marginalized groups\, the culture of Esperanza\, and the causes Esperanza has taken on.
URL:https://pridecentersa.org/event/esperanza-____-documentary/
LOCATION:Esperanza Peace and Justice Center\, 922 San Pedro Ave\, San Antonio\, 78212\, United States
ORGANIZER;CN="Esperanza Peace and Justice Center":MAILTO:esperanza@esperanzacenter.org
END:VEVENT
END:VCALENDAR