BEGIN:VCALENDAR
VERSION:2.0
PRODID:-//The Pride Center San Antonio - ECPv6.15.11//NONSGML v1.0//EN
CALSCALE:GREGORIAN
METHOD:PUBLISH
X-ORIGINAL-URL:https://pridecentersa.org
X-WR-CALDESC:Events for The Pride Center San Antonio
REFRESH-INTERVAL;VALUE=DURATION:PT1H
X-Robots-Tag:noindex
X-PUBLISHED-TTL:PT1H
BEGIN:VTIMEZONE
TZID:America/Chicago
BEGIN:DAYLIGHT
TZOFFSETFROM:-0600
TZOFFSETTO:-0500
TZNAME:CDT
DTSTART:20240310T080000
END:DAYLIGHT
BEGIN:STANDARD
TZOFFSETFROM:-0500
TZOFFSETTO:-0600
TZNAME:CST
DTSTART:20241103T070000
END:STANDARD
BEGIN:DAYLIGHT
TZOFFSETFROM:-0600
TZOFFSETTO:-0500
TZNAME:CDT
DTSTART:20250309T080000
END:DAYLIGHT
BEGIN:STANDARD
TZOFFSETFROM:-0500
TZOFFSETTO:-0600
TZNAME:CST
DTSTART:20251102T070000
END:STANDARD
BEGIN:DAYLIGHT
TZOFFSETFROM:-0600
TZOFFSETTO:-0500
TZNAME:CDT
DTSTART:20260308T080000
END:DAYLIGHT
BEGIN:STANDARD
TZOFFSETFROM:-0500
TZOFFSETTO:-0600
TZNAME:CST
DTSTART:20261101T070000
END:STANDARD
END:VTIMEZONE
BEGIN:VEVENT
DTSTART;TZID=America/Chicago:20250125T120000
DTEND;TZID=America/Chicago:20250125T160000
DTSTAMP:20260425T231150
CREATED:20250106T223602Z
LAST-MODIFIED:20250106T223602Z
UID:10779-1737806400-1737820800@pridecentersa.org
SUMMARY:Volunteer Full Day Orientation
DESCRIPTION:Join us at 1303 McCullough Ave suite 160 for a day packed with information\, training\, and fun activities. This event is your gateway to becoming a valuable member of our team. Learn about our mission\, meet fellow volunteers\, and get ready to make a difference in the community. Whether you’re a seasoned volunteer or new to the game\, this orientation is a must-attend. Come prepared to engage\, learn\, and connect with like-minded individuals. We can’t wait to see you there!
URL:https://pridecentersa.org/event/volunteer-full-day-orientation/
LOCATION:Pride Center San Antonio
CATEGORIES:Pride Center San Antonio (PCSA) Events
ORGANIZER;CN="Erica A.":MAILTO:erica@pridecentersa.org
END:VEVENT
BEGIN:VEVENT
DTSTART;TZID=America/Chicago:20250125T170000
DTEND;TZID=America/Chicago:20250125T230000
DTSTAMP:20260425T231150
CREATED:20250106T175153Z
LAST-MODIFIED:20250106T175153Z
UID:10770-1737824400-1737846000@pridecentersa.org
SUMMARY:Flora and Fauna Kiki Ball
DESCRIPTION:Mid tier ballroom event. OTY approved
URL:https://pridecentersa.org/event/flora-and-fauna-kiki-ball/
LOCATION:Bonham Exchange\, 411 Bonham\, San Antonio\, Texas\, 78205
CATEGORIES:Pride Center San Antonio (PCSA) Events,Social Events
ORGANIZER;CN="Xavier Gravee":MAILTO:Xavier@pridecentersa.org
END:VEVENT
END:VCALENDAR