BEGIN:VCALENDAR
VERSION:2.0
PRODID:-//The Pride Center San Antonio - ECPv6.15.11//NONSGML v1.0//EN
CALSCALE:GREGORIAN
METHOD:PUBLISH
X-WR-CALNAME:The Pride Center San Antonio
X-ORIGINAL-URL:https://pridecentersa.org
X-WR-CALDESC:Events for The Pride Center San Antonio
REFRESH-INTERVAL;VALUE=DURATION:PT1H
X-Robots-Tag:noindex
X-PUBLISHED-TTL:PT1H
BEGIN:VTIMEZONE
TZID:America/Chicago
BEGIN:DAYLIGHT
TZOFFSETFROM:-0600
TZOFFSETTO:-0500
TZNAME:CDT
DTSTART:20240310T080000
END:DAYLIGHT
BEGIN:STANDARD
TZOFFSETFROM:-0500
TZOFFSETTO:-0600
TZNAME:CST
DTSTART:20241103T070000
END:STANDARD
BEGIN:DAYLIGHT
TZOFFSETFROM:-0600
TZOFFSETTO:-0500
TZNAME:CDT
DTSTART:20250309T080000
END:DAYLIGHT
BEGIN:STANDARD
TZOFFSETFROM:-0500
TZOFFSETTO:-0600
TZNAME:CST
DTSTART:20251102T070000
END:STANDARD
BEGIN:DAYLIGHT
TZOFFSETFROM:-0600
TZOFFSETTO:-0500
TZNAME:CDT
DTSTART:20260308T080000
END:DAYLIGHT
BEGIN:STANDARD
TZOFFSETFROM:-0500
TZOFFSETTO:-0600
TZNAME:CST
DTSTART:20261101T070000
END:STANDARD
END:VTIMEZONE
BEGIN:VEVENT
DTSTART;TZID=America/Chicago:20250111T180000
DTEND;TZID=America/Chicago:20250111T210000
DTSTAMP:20260424T113415
CREATED:20250109T170053Z
LAST-MODIFIED:20250109T170053Z
UID:10821-1736618400-1736629200@pridecentersa.org
SUMMARY:The Target Shoots Back Album Release Party
DESCRIPTION:This special evening will feature a full performance of The Target Shoots Back\, bringing each poem to life with raw intensity and vulnerability. Experience the journey of empowerment and defiance as Chibbi takes the stage to deliver pieces that speak to the strength found in community and the resilience required to push back against oppression. \nAdding to the night’s power\, we’re excited to welcome guest performances from some of the city’s most compelling local poets. These artists will share their own stories and perspectives\, enriching the evening with voices that echo the album’s themes of perseverance\, belonging\, and self-assertion. Together\, they create a tapestry of voices that embody the spirit of The Target Shoots Back. \nGuest performers lineup:\n•San Antonio Poet Laureate\, musician\, and overall powerhouse -Andrea Vocab Sanderson\n•Longtime San Antonio poetry MVP – Rooster\n•Central Texas powerhouse and Editor in Chief of Adobe Press – Diamond Braxton\n•Educator\, producer\, and hip hop artist – Mex Step \nCome ready to be moved\, challenged\, and inspired. This isn’t just an album release—it’s a call to stand together\, speak out\, and celebrate the unstoppable power of our voices. Don’t miss this night of fierce poetry and community solidarity!
URL:https://pridecentersa.org/event/the-target-shoots-back-album-release-party/
LOCATION:Esperanza Peace and Justice Center\, 922 San Pedro Ave\, San Antonio\, 78212\, United States
CATEGORIES:Social Events
ORGANIZER;CN="GEM IN EYES PRODUCTIONS":MAILTO:pr@esperanzacenter.org
END:VEVENT
END:VCALENDAR